BEGIN:VCALENDAR
PRODID:-//Microsoft Corporation//Outlook 12.0 MIMEDIR//EN
VERSION:2.0
CALSCALE:GREGORIAN
BEGIN:VEVENT
UID: e14a74a5-8271-423f-b7f6-8e12ff529660
SUMMARY:9. kl B-võõrkeele tasemetöö
DTSTAMP:20250114
DTSTART:20250114
DTEND:20250116
DURATION:P2D
LOCATION:Orissaare Gümnaasium
DESCRIPTION: <p><strong>Link: </strong>https://www.oris.edu.ee/et/sundmuste-kalender/9-kl-b-voorkeele-tasemetoo</p><p><strong>Hind: </strong></p>
STATUS:CONFIRMED
SEQUENCE:3
X-ALT-DESC;FMTTYPE=text/html:<p><strong>Link: </strong>https://www.oris.edu.ee/et/sundmuste-kalender/9-kl-b-voorkeele-tasemetoo</p><p><strong>Hind: </strong></p>
X-MICROSOFT-CDO-BUSYSTATUS:OOF
X-MICROSOFT-CDO-IMPORTANCE:1
X-MICROSOFT-DISALLOW-COUNTER:FALSE
X-MS-OLK-ALLOWEXTERNCHECK:TRUE
X-MS-OLK-CONFTYPE:0
X-MICROSOFT-CDO-ALLDAYEVENT:1
X-MICROSOFT-MSNCALENDAR-ALLDAYEVENT:1
END:VEVENT
END:VCALENDAR